BEGIN:VCALENDAR
VERSION:2.0
PRODID:-//Catalyst for Payment Reform - ECPv6.15.20//NONSGML v1.0//EN
CALSCALE:GREGORIAN
METHOD:PUBLISH
X-WR-CALNAME:Catalyst for Payment Reform
X-ORIGINAL-URL:https://www.catalyze.org
X-WR-CALDESC:Events for Catalyst for Payment Reform
REFRESH-INTERVAL;VALUE=DURATION:PT1H
X-Robots-Tag:noindex
X-PUBLISHED-TTL:PT1H
BEGIN:VTIMEZONE
TZID:America/Los_Angeles
BEGIN:DAYLIGHT
TZOFFSETFROM:-0800
TZOFFSETTO:-0700
TZNAME:PDT
DTSTART:20240310T100000
END:DAYLIGHT
BEGIN:STANDARD
TZOFFSETFROM:-0700
TZOFFSETTO:-0800
TZNAME:PST
DTSTART:20241103T090000
END:STANDARD
BEGIN:DAYLIGHT
TZOFFSETFROM:-0800
TZOFFSETTO:-0700
TZNAME:PDT
DTSTART:20250309T100000
END:DAYLIGHT
BEGIN:STANDARD
TZOFFSETFROM:-0700
TZOFFSETTO:-0800
TZNAME:PST
DTSTART:20251102T090000
END:STANDARD
BEGIN:DAYLIGHT
TZOFFSETFROM:-0800
TZOFFSETTO:-0700
TZNAME:PDT
DTSTART:20260308T100000
END:DAYLIGHT
BEGIN:STANDARD
TZOFFSETFROM:-0700
TZOFFSETTO:-0800
TZNAME:PST
DTSTART:20261101T090000
END:STANDARD
END:VTIMEZONE
BEGIN:VEVENT
DTSTART;TZID=America/Los_Angeles:20250610T130000
DTEND;TZID=America/Los_Angeles:20250610T140000
DTSTAMP:20260423T061052
CREATED:20250512T211601Z
LAST-MODIFIED:20250603T164808Z
UID:23951-1749560400-1749564000@www.catalyze.org
SUMMARY:Understanding the Impact of Mental Health Disorders on the Workplace
DESCRIPTION:This webinar will examine the impact of Major Depressive Disorder (MDD) and Bipolar I Disorder (BP-I) on workplace productivity. It covers the diagnostic criteria and epidemiology for both disorders\, highlighting the economic burden\, including direct and indirect costs\, and productivity loss. It also addressesbarriers to care and contemporary treatment paradigms for MDD and BP-I. Furthermore\, it discusses the differences between these two disorders\, the impact of misdiagnosis\, and various treatment approaches\, including medication\, therapy\, and lifestyle interventions. The presentation is comprehensive\, focusing primarily on the economic and productivity implications of these mental health disorders within the workplace. \nJoin Kimberly Moore\, PharmD\, MS Medical Outcomes Science Liaison at AbbVie and: \n\nUnderstand the Diagnostic Criteria and Epidemiology of Major Depressive Disorder (MDD): Gain insights into the symptoms and prevalence of MDD and associated impacts on individuals and workplaces.\nEvaluate the Economic and Productivity Costs of MDD: Learn about the direct and indirect costs linked to MDD\, including effects on workplace productivity.\nExplore the Treatment Paradigms for MDD: Discover current approaches and guidelines for treating MDD\, including medication classes and therapeutic interventions.\nUnderstand the Epidemiology and Costs Associated with Bipolar I Disorder: Familiarize with the prevalence\, diagnostic challenges\, and economic implications of BP-I in workplace settings.\nIdentify Barriers to Care in Patients with Bipolar I Disorder: Recognize the obstacles faced by patients in receiving appropriate diagnosis for BP-I.\nExamine Current Treatment Guidelines for Bipolar I Disorder: Learn about options to manage BP-I disorder including guideline recommendations.\n\nYou’ll leave with a better understanding of the importance of appropriate diagnosis and management for MDD and BP-I.
URL:https://www.catalyze.org/event/understanding-the-impact-of-mental-health-disorders-on-the-workplace/
LOCATION:Zoom
CATEGORIES:Data
ATTACH;FMTTYPE=image/png:https://www.catalyze.org/wp-content/uploads/2025/05/Abbvie-Sponsored-Webinar.png
END:VEVENT
BEGIN:VEVENT
DTSTART;TZID=America/Los_Angeles:20250318T123000
DTEND;TZID=America/Los_Angeles:20250318T133000
DTSTAMP:20260423T061052
CREATED:20250221T163827Z
LAST-MODIFIED:20250221T165628Z
UID:23914-1742301000-1742304600@www.catalyze.org
SUMMARY:Decoding the Data: How Price Transparency Creates Value for Employers
DESCRIPTION:Price transparency in healthcare is finally here\, but many are left asking: Now what? Compliance requirements feel overwhelming\, the data seems complex\, and the path to real transformation feels unclear. Centivo & Turquoise will cut through the noise and show you how to use transparency data to create network strategies that maximize healthcare quality – and lower costs. It’s time to embrace a new era of health plans built with financial transparency for your organization and your employees. \nWith moderation by Ryan Olmstead of Catalyst for Payment Reform\, join Ashok Subramanian\, CEO and founder of Centivo\, and Shay Forbes\, Head of Employer Solutions\, Turquoise Health as they: \n\nDemystify the latest price transparency requirements and what they mean for you\nHighlight the implications of real-world disparities in the cost of care\nExplain how transparency data can be used to build more cost-effective provider networks\nShare practical strategies to enhance the employee experience with health offerings rooted in transparency and affordability\n\nYou’ll leave with clear\, actionable ways to make transparency requirements work for you.
URL:https://www.catalyze.org/event/decoding-the-data-webinar/
LOCATION:Zoom
CATEGORIES:Data
ATTACH;FMTTYPE=image/jpeg:https://www.catalyze.org/wp-content/uploads/2025/02/Turquoise-webinar-LI-1200x627-option1-v3-scaled.jpg
END:VEVENT
END:VCALENDAR